BEGIN:VCALENDAR
VERSION:2.0
PRODID:-//DUDES Club - ECPv6.15.13.1//NONSGML v1.0//EN
CALSCALE:GREGORIAN
METHOD:PUBLISH
X-WR-CALNAME:DUDES Club
X-ORIGINAL-URL:https://dudesclub.ca
X-WR-CALDESC:Events for DUDES Club
REFRESH-INTERVAL;VALUE=DURATION:PT1H
X-Robots-Tag:noindex
X-PUBLISHED-TTL:PT1H
BEGIN:VTIMEZONE
TZID:America/Vancouver
BEGIN:DAYLIGHT
TZOFFSETFROM:-0800
TZOFFSETTO:-0700
TZNAME:PDT
DTSTART:20250309T100000
END:DAYLIGHT
BEGIN:STANDARD
TZOFFSETFROM:-0700
TZOFFSETTO:-0800
TZNAME:PST
DTSTART:20251102T090000
END:STANDARD
BEGIN:DAYLIGHT
TZOFFSETFROM:-0800
TZOFFSETTO:-0700
TZNAME:PDT
DTSTART:20260308T100000
END:DAYLIGHT
BEGIN:STANDARD
TZOFFSETFROM:-0700
TZOFFSETTO:-0800
TZNAME:PST
DTSTART:20261101T090000
END:STANDARD
BEGIN:DAYLIGHT
TZOFFSETFROM:-0800
TZOFFSETTO:-0700
TZNAME:PDT
DTSTART:20270314T100000
END:DAYLIGHT
BEGIN:STANDARD
TZOFFSETFROM:-0700
TZOFFSETTO:-0800
TZNAME:PST
DTSTART:20271107T090000
END:STANDARD
END:VTIMEZONE
BEGIN:VEVENT
DTSTART;TZID=America/Vancouver:20260421T130000
DTEND;TZID=America/Vancouver:20260421T160000
DTSTAMP:20260421T031439
CREATED:20260105T191702Z
LAST-MODIFIED:20260105T191702Z
UID:12226-1776776400-1776787200@dudesclub.ca
SUMMARY:Gitanmaax Gathering
DESCRIPTION:
URL:https://dudesclub.ca/event/gitanmaax-gathering-215/
LOCATION:Hazelton\, BC\, Canada
END:VEVENT
BEGIN:VEVENT
DTSTART;TZID=America/Vancouver:20260421T143000
DTEND;TZID=America/Vancouver:20260421T153000
DTSTAMP:20260421T031439
CREATED:20260105T191702Z
LAST-MODIFIED:20260105T191702Z
UID:12225-1776781800-1776785400@dudesclub.ca
SUMMARY:Think tank VDC
DESCRIPTION:
URL:https://dudesclub.ca/event/think-tank-vdc-295/
ORGANIZER;CN="jason@dudesclub.ca":MAILTO:jason@dudesclub.ca
END:VEVENT
BEGIN:VEVENT
DTSTART;TZID=America/Vancouver:20260421T180000
DTEND;TZID=America/Vancouver:20260421T200000
DTSTAMP:20260421T031439
CREATED:20260105T191702Z
LAST-MODIFIED:20260105T191702Z
UID:12227-1776794400-1776801600@dudesclub.ca
SUMMARY:Quw'utsun Men's Group
DESCRIPTION:
URL:https://dudesclub.ca/event/quwutsun-mens-group-93/
LOCATION:Kwun’atsustul Counselling Centre
END:VEVENT
BEGIN:VEVENT
DTSTART;TZID=America/Vancouver:20260421T180000
DTEND;TZID=America/Vancouver:20260421T200000
DTSTAMP:20260421T031439
CREATED:20260105T191702Z
LAST-MODIFIED:20260105T191702Z
UID:12228-1776794400-1776801600@dudesclub.ca
SUMMARY:All Nations Outreach (ClubHouse)
DESCRIPTION:
URL:https://dudesclub.ca/event/all-nations-outreach-clubhouse-16/
END:VEVENT
END:VCALENDAR